BEGIN:VCALENDAR
VERSION:2.0
PRODID:icalendar-ruby
CALSCALE:GREGORIAN
METHOD:PUBLISH
BEGIN:VEVENT
DTSTAMP:20260419T131315Z
UID:103-953811@oakdalerockymount.org
DTSTART;VALUE=DATE:20260529
DTEND;VALUE=DATE:20260530
CLASS:PUBLIC
CREATED:20260416T112537
DESCRIPTION:If you want to go\, please RSVP with Felecia Webb. This is a we
 ekend of learning\, fellowship\, fun\, and most importantly\, learning abo
 ut Christ. 
LAST-MODIFIED:20260416T112537
LOCATION:
SUMMARY:Titus 2 Discipleship Weekend
URL;VALUE=URI:https://oakdalerockymount.org/events/titus-2-discipleship-wee
 kend/2026-05-29
ATTACH;FILENAME=2.jpg;FMTTYPE=image/jpeg:https://dq5pwpg1q8ru0.cloudfront.n
 et/2026/04/16/15/25/37/d1d25b9c-27bb-497e-8ab0-8d44f62fc235/2.jpg
END:VEVENT
END:VCALENDAR
